BEGIN:VCALENDAR
VERSION:2.0
CALSCALE:GREGORIAN
PRODID:adamgibbons/ics
METHOD:PUBLISH
X-PUBLISHED-TTL:PT1H
BEGIN:VEVENT
UID:95@events.primeproduce.info
SUMMARY:Grounding with Ease & Peace
DTSTAMP:20260419T090735Z
DTSTART:20260428T223000Z
DESCRIPTION:Art & creative activities are great tool for grounding\, reduci
	ng stress level\nand so much more.\n\n\n\nJoin us for the collective art-m
	aking\, mindfulness practice & conversation. Open\nto everyone. Art materi
	als will be available. And you're more than welcome to\nbring your own mat
	erials.\n\nWhen: 6:30pm ET (Door opens at 6pm)\n\nTuesday April 28th\, 202
	6\n\nWhere: Prime Produce Guild Hall (Hell's Kitchen) >> 2nd Floor Meditat
	ion Library\n\n\n\nSession organized by Yuko Kudo [https://www.instagram.c
	om/yukoislovelivelife]\,\nArtist\, Multi-passionate\, a brain aneurysm sur
	vivor.\n\nSee you then!\n\nLove & Light
URL:https://events.primeproduce.info/event/grounding-with-ease-and-peace-2
LOCATION:Prime Produce Apprentice Cooperative - 424 W 54th St\, New York NY
	 10019
STATUS:CONFIRMED
CATEGORIES:
X-ALT-DESC;FMTTYPE=text/html:<p>Art &amp; creative activities are great too
	l for grounding, reducing stress level and so much more.</p><p>​​​</p><p>​
	​​Join us for the collective art-making, mindfulness practice &amp; conver
	sation. <strong>Open to everyone</strong>. ​Art materials will be availabl
	e. And you're more than welcome to bring your own materials.</p><p>​​​When
	: ​6:30pm ET (Door opens at 6pm)</p><p>​Tuesday April 28th, 2026</p><p>​​​
	Where: Prime Produce Guild Hall (Hell's Kitchen) &gt;&gt; 2nd Floor Medita
	tion Library </p><p>​​​</p><p>​​Session organized by <a target="_blank" hr
	ef="https://www.instagram.com/yukoislovelivelife">Yuko Kudo</a>, Artist, M
	ulti-passionate, a brain aneurysm survivor.</p><p>​​​See you then!</p><p>​
	​​Love &amp; Light</p>
BEGIN:VALARM
ACTION:DISPLAY
DESCRIPTION:Grounding with Ease & Peace
TRIGGER:-PT1H
END:VALARM
END:VEVENT
END:VCALENDAR
